BEGIN:VCALENDAR
VERSION:2.0
PRODID:-//FAKULTAS TEKNIK UNP - ECPv5.3.1.1//NONSGML v1.0//EN
CALSCALE:GREGORIAN
METHOD:PUBLISH
X-WR-CALNAME:FAKULTAS TEKNIK UNP
X-ORIGINAL-URL:https://ft.unp.ac.id
X-WR-CALDESC:Events for FAKULTAS TEKNIK UNP
BEGIN:VTIMEZONE
TZID:UTC
BEGIN:STANDARD
TZOFFSETFROM:+0000
TZOFFSETTO:+0000
TZNAME:UTC
DTSTART:20210101T000000
END:STANDARD
END:VTIMEZONE
BEGIN:VEVENT
DTSTART;TZID=UTC:20210321T080000
DTEND;TZID=UTC:20210322T170000
DTSTAMP:20260423T031527
CREATED:20210202T015854Z
LAST-MODIFIED:20210202T020004Z
UID:6691-1616313600-1616432400@ft.unp.ac.id
SUMMARY:Wisuda Maret 122
DESCRIPTION:Wisuda Maret 122
URL:https://ft.unp.ac.id/event/wisuda-maret-122/
ATTACH;FMTTYPE=image/jpeg:https://ft.unp.ac.id/wp-content/uploads/2021/02/W3.jpg
END:VEVENT
END:VCALENDAR